Workbook

Sheet Parametros
A1: Modelo de asientos (Savia) - Agencia de viajes
A3: Caso 1 ARS
A4: Momento | B4: Concepto | C4: ARS | D4: Tipo de cambio | E4: ARS (calculado) | F4: Notas
A5: M1 | B5: Cobro al cliente (total presupuesto) | C5: 1500000 | D5: 1 | E5: =C5*D5 -> 1500000 | F5: Cobro anticipado / a cuenta
A6: M2a | B6: Factura cliente - Total | C6: 1500000 | D6: 1 | E6: =C6*D6 -> 1500000 | F6: Se separa costo (900) y comisión (100)
A7: M2b | B7: Factura cliente - Costo a provisionar | C7: 1350000 | D7: 1 | E7: =C7*D7 -> 1350000 | F7: Provisión proveedores
A8: M2c | B8: Factura cliente - Utilidad (comisión) | C8: 150000 | D8: 1 | E8: =C8*D8 -> 150000 | F8: Comisiones generadas
A9: M3 | B9: Pago al proveedor (sale de lo cobrado) | C9: 1350000 | D9: 1 | E9: =C9*D9 -> 1350000 | F9: Pago/anticipo proveedor
A10: M4 | B10: Factura proveedor recibida | C10: 1350000 | D10: 1 | E10: =C10*D10 -> 1350000 | F10: Recepción factura proveedor
A14: Caso 2 USD
A15: Momento | B15: Concepto | C15: USD | D15: Tipo de cambio | E15: ARS (calculado) | F15: Notas
A16: M1 | B16: Cobro al cliente (total presupuesto) | C16: 1000 | D16: 1500 | E16: =C16*D16 -> 1500000 | F16: Cobro anticipado / a cuenta
A17: M2a | B17: Factura cliente - Total | C17: 1000 | D17: 1600 | E17: =C17*D17 -> 1600000 | F17: Se separa costo (900) y comisión (100)
A18: M2b | B18: Factura cliente - Costo a provisionar | C18: 900 | D18: 1600 | E18: =C18*D18 -> 1440000 | F18: Provisión proveedores
A19: M2c | B19: Factura cliente - Utilidad (comisión) | C19: 100 | D19: 1600 | E19: =C19*D19 -> 160000 | F19: Comisiones generadas
A20: M3 | B20: Pago al proveedor (sale de lo cobrado) | C20: 900 | D20: 1700 | E20: =C20*D20 -> 1530000 | F20: Pago/anticipo proveedor
A21: M4 | B21: Factura proveedor recibida | C21: 900 | D21: 1800 | E21: =C21*D21 -> 1620000 | F21: Recepción factura proveedor
A24: Caso 3 ARS
A25: Momento | B25: Concepto | C25: ARS | D25: Tipo de cambio | E25: ARS (calculado) | F25: Notas
A26: M1 | B26: Cobro al cliente (total presupuesto) | C26: 1500000 | D26: 1 | E26: =C26*D26 -> 1500000 | F26: Cobro anticipado / a cuenta
A27: M2 | B27: Pago al proveedor (sale de lo cobrado) | C27: 1350000 | D27: 1 | E27: =C27*D27 -> 1350000 | F27: Pago/anticipo proveedor
A28: M3 | B28: Factura proveedor recibida | C28: 1350000 | D28: 1 | E28: =C28*D28 -> 1350000 | F28: Recepción factura proveedor
A29: M4 | B29: Factura cliente - Total | C29: 1500000 | D29: 1 | E29: =C29*D29 -> 1500000 | F29: Se separa costo (900) y comisión (100)
A30: M4 | B30: Factura cliente - Costo a provisionar | C30: 1350000 | D30: 1 | E30: =C30*D30 -> 1350000 | F30: Provisión proveedores
A31: M4 | B31: Factura cliente - Utilidad (comisión) | C31: 150000 | D31: 1 | E31: =C31*D31 -> 150000 | F31: Comisiones generadas
A34: Caso 4 ARS
A35: Momento | B35: Concepto | C35: ARS | D35: Tipo de cambio | E35: ARS (calculado) | F35: Notas
A36: M1 | B36: Factura cliente - Total | C36: 1500000 | D36: 1 | E36: =C36*D36 -> 1500000 | F36: Se separa costo (900) y comisión (100)
A37: M1 | B37: Factura cliente - Costo a provisionar | C37: 1350000 | D37: 1 | E37: =C37*D37 -> 1350000 | F37: Provisión proveedores
A38: M1 | B38: Factura cliente - Utilidad (comisión) | C38: 150000 | D38: 1 | E38: =C38*D38 -> 150000 | F38: Comisiones generadas
A39: M2 | B39: Factura proveedor recibida | C39: 1350000 | D39: 1 | E39: =C39*D39 -> 1350000 | F39: Recepción factura proveedor
A40: M3 | B40: Cobro al cliente (total presupuesto) | C40: 1500000 | D40: 1 | E40: =C40*D40 -> 1500000 | F40: Cobro anticipado / a cuenta
A41: M4 | B41: Pago al proveedor (sale de lo cobrado) | C41: 1350000 | D41: 1 | E41: =C41*D41 -> 1350000 | F41: Pago/anticipo proveedor
A44: Caso 5 USD
A45: Momento | B45: Concepto | C45: USD | D45: Tipo de cambio | E45: ARS (calculado) | F45: Notas
A46: M1 | B46: Factura cliente - Total | C46: 1000 | D46: 1500 | E46: =C46*D46 -> 1500000 | F46: Se separa costo (900) y comisión (100)
A47: M1 | B47: Factura cliente - Costo a provisionar | C47: 850 | D47: 1500 | E47: =C47*D47 -> 1275000 | F47: Provisión proveedores
A48: M1 | B48: Factura cliente - Utilidad (comisión) | C48: 150 | D48: 1500 | E48: =C48*D48 -> 225000 | F48: Comisiones generadas
A49: M2 | B49: Factura proveedor recibida | C49: 900 | D49: 1600 | E49: =C49*D49 -> 1440000 | F49: Recepción factura proveedor
A50: M3 | B50: Cobro al cliente (total presupuesto) | C50: 1000 | D50: 1700 | E50: =C50*D50 -> 1700000 | F50: Cobro anticipado / a cuenta
...

Sheet Asientos
A1: Asientos contables por momento (en ARS) Caso 1
A3: M1 | B3: 1 | C3: Caja principal | D3: 1500000 | F3: Cobro cliente | G3: Cobro total del presupuesto
A4: M1 | B4: 2 | C4: Ingreso por Cuenta de Terceros (Cliente) | E4: 1500000 | F4: Cobro cliente | G4: Cuenta puente cliente
A6: M2 | B6: 1 | C6: Ingreso por Cuenta de Terceros (Cliente) | D6: 1500000 | F6: Factura cliente | G6: Emisión factura pasajero
A7: M2 | B7: 2 | C7: Provisión Proveedores | E7: 1350000 | F7: Factura cliente | G7: Costo del expediente
A8: M2 | B8: 3 | C8: Comisiones Generadas | E8: 150000 | F8: Factura cliente | G8: Utilidad
A10: M3 | B10: 1 | C10: Egreso por Cuenta de Terceros (Proveedor) | D10: 1350000 | F10: Pago proveedor | G10: Pago costo al proveedor
A11: M3 | B11: 2 | C11: Caja principal | E11: 1350000 | F11: Pago proveedor | G11: Salida de caja
A13: M4 | B13: 1 | C13: Provisión Proveedores | D13: 1350000 | F13: Factura proveedor | G13: Recepción factura proveedor
A14: M4 | B14: 2 | C14: Egreso por Cuenta de Terceros (Proveedor) | E14: 1350000 | F14: Factura proveedor | G14: Cancela anticipo/proveedor
A17: Asientos contables por momento (en ARS) Caso 2
A19: Momento | B19: Linea | C19: Cuenta | D19: Debe (ARS) | E19: Haber (ARS) | F19: Referencia | G19: Descripción | H19: Tipo de cambio
A20: M1 | B20: 1 | C20: Caja principal | D20: =Parametros!$E$16 -> 1500000 | F20: Cobro cliente | G20: Cobro al cliente USD 1.000 | H20: 1500
A21: M1 | B21: 2 | C21: Ingreso por Cuenta de Terceros (Cliente) | E21: =Parametros!$E$16 -> 1500000 | F21: Cobro cliente | G21: Registro cuenta puente cliente
A23: M2 | B23: 1 | C23: Ingreso por Cuenta de Terceros (Cliente) | D23: =Parametros!$E$17 -> 1600000 | F23: Factura a cliente | G23: Factura al cliente USD 1.000 | H23: 1600
A24: M2 | B24: 2 | C24: Provisión Proveedores | E24: =Parametros!$E$18 -> 1440000 | F24: Factura a cliente | G24: Provisión costo USD 900
A25: M2 | B25: 3 | C25: Comisiones Generadas | E25: =Parametros!$E$19 -> 160000 | F25: Factura a cliente | G25: Utilidad USD 100
A26: M2 | B26: 4 | C26: Diferencia de Cambio (Pérdida) | D26: =(Parametros!$E$17-Parametros!$E$16) -> 100000 | F26: Ajuste TC cliente | G26: Ajuste por TC entre cobro y facturación
A27: M2 | B27: 5 | C27: Ingreso por Cuenta de Terceros (Cliente) | E27: =(Parametros!$E$17-Parametros!$E$16) -> 100000 | F27: Ajuste TC cliente | G27: Cierre cuenta puente cliente (saldo 0)
A29: M3 | B29: 1 | C29: Egreso por Cuenta de Terceros (Proveedor) | D29: =Parametros!$E$20 -> 1530000 | F29: Pago proveedor | G29: Pago al proveedor USD 900 | H29: 1700
A30: M3 | B30: 2 | C30: Caja principal | E30: =Parametros!$E$20 -> 1530000 | F30: Pago proveedor | G30: Salida de fondos (mismo efectivo cobrado)
A32: M4 | B32: 1 | C32: Provisión Proveedores | D32: =Parametros!$E$18 -> 1440000 | F32: Factura proveedor | G32: Cancelación provisión (USD 900) | H32: 1800
A33: M4 | B33: 2 | C33: Diferencia de Cambio (Pérdida) | D33: =(Parametros!$E$21-Parametros!$E$18) -> 180000 | F33: Factura proveedor | G33: Ajuste por TC entre provisión y factura proveedor (Diferencia: 900 × (1.800 − 1.600) = 180.000)
A34: M4 | B34: 3 | C34: Egreso por Cuenta de Terceros (Proveedor) | E34: =Parametros!$E$21 -> 1620000 | F34: Factura proveedor | G34: Aplicación contra pago ya realizado (cuenta puente)
A35: M4 | B35: 4 | C35: Egreso por Cuenta de Terceros (Proveedor) | D35: =(Parametros!$E$21-Parametros!$E$20) -> 90000 | F35: Ajuste TC proveedor | G35: Revaluación/ajuste del anticipo por TC
A36: M4 | B36: 5 | C36: Diferencia de Cambio (Ganancia) | E36: =(Parametros!$E$21-Parametros!$E$20) -> 90000 | F36: Ajuste TC proveedor | G36: Ganancia por TC entre pago y factura [ 900 × (1.800 − 1.700) = 90.000 (ganancia)]
A38: Asientos contables por momento (en ARS) Caso 3
A40: M1 | B40: 1 | C40: Caja principal | D40: 1500000 | F40: Cobro cliente | G40: Cobro total del presupuesto
A41: M1 | B41: 2 | C41: Ingreso por Cuenta de Terceros (Cliente) | E41: 1500000 | F41: Cobro cliente | G41: Cuenta puente cliente
A43: M2 | B43: 1 | C43: Egreso por Cuenta de Terceros (Proveedor) | D43: 1350000 | F43: Pago proveedor | G43: Pago costo al proveedor
A44: M2 | B44: 2 | C44: Caja principal | E44: 1350000 | F44: Pago proveedor | G44: Salida de caja
A46: M3 | B46: 1 | C46: Provisión Proveedores | D46: 1350000 | F46: Factura proveedor | G46: Recepción factura proveedor
A47: M3 | B47: 2 | C47: Egreso por Cuenta de Terceros (Proveedor) | E47: 1350000 | F47: Factura proveedor | G47: Cancela anticipo/proveedor
A49: M4 | B49: 1 | C49: Ingreso por Cuenta de Terceros (Cliente) | D49: 1500000 | F49: Factura cliente | G49: Emisión factura pasajero
A50: M4 | B50: 2 | C50: Provisión Proveedores | E50: 1350000 | F50: Factura cliente | G50: Costo del expediente
A51: M4 | B51: 3 | C51: Comisiones Generadas | E51: 150000 | F51: Factura cliente | G51: Utilidad
A54: Asientos contables por momento (en ARS) Caso 4
A56: M1 | B56: 1 | C56: Ingreso por Cuenta de Terceros (Cliente) | D56: 1500000 | F56: Factura cliente | G56: Se factura sin cobro previo
A57: M1 | B57: 2 | C57: Provisión Proveedores | E57: 1350000 | F57: Factura cliente | G57: Costo estimado/provisión
A58: M1 | B58: 3 | C58: Comisiones Generadas | E58: 150000 | F58: Factura cliente | G58: Utilidad
...
